BEGIN:VCALENDAR
VERSION:2.0
PRODID:-//ChamberMaster//Event Calendar 2.0//EN
METHOD:PUBLISH
X-PUBLISHED-TTL:P3D
REFRESH-INTERVAL:P3D
CALSCALE:GREGORIAN
BEGIN:VEVENT
DTSTART:20120315T173000Z
DTEND:20120315T190000Z
X-MICROSOFT-CDO-ALLDAYEVENT:FALSE
SUMMARY:Learn How You Can Help Make a Difference in the Life of a Child
DESCRIPTION:CASA (Court Appointed Special Advocates) of Adams and Broomfield Counties invites you to learn how your voice can make a difference in the life of an abused and neglected child at their "CASA 101" Information Session.\n\n	\n\n	Thursday\, March 15th\n\n	11:30 AM to 1:00 PM\n\n	Noah's Event Center\n\n	11885 Bradburn Blvd in Westminster\n\n	\n\n	"CASA 101" will provide attendees with an overview of the program which is currently seeking caring community volunteers to advocate on behalf of abused and neglected children who have open cases in the judicial system.\n\n	\n\n	CASA staff members and volunteers who are active on CASA cases will be on hand to talk to guests about the program\, as well as help those who are interested in taking the next step to become a volunteer. CASA's next volunteer training class begins in June.
X-ALT-DESC;FMTTYPE=text/html:<p>\n	<span style="font-size: 16px"><span style="font-family: verdana">CASA (Court Appointed Special Advocates) of Adams and Broomfield Counties invites you to learn how your voice can make a difference in the life of an abused and neglected child at their &quot\;CASA 101&quot\; Information Session.<br />\n	<br />\n	<strong>Thursday\, March 15th<br />\n	11:30 AM to 1:00 PM<br />\n	Noah&#39\;s Event Center<br />\n	11885 Bradburn Blvd in Westminster</strong><br />\n	<br />\n	&quot\;CASA 101&quot\; will provide attendees with an overview of the program which is currently seeking caring community volunteers to advocate on behalf of abused and neglected children who have open cases in the judicial system.<br />\n	<br />\n	CASA staff members and volunteers who are active on CASA cases will be on hand to talk to guests about the program\, as well as help those who are interested in taking the next step to become a volunteer. CASA&#39\;s next volunteer training class begins in June.</span></span><br />\n	<br />\n	&nbsp\;</p>\n
LOCATION:Noah's Event Center 11885 Bradburn Blvd. Westminster
UID:e.641.3904
SEQUENCE:3
DTSTAMP:20260419T175359Z
URL:http://business.broomfieldchamber.com/events/details/learn-how-you-can-help-make-a-difference-in-the-life-of-a-child-03-15-2012-3904
END:VEVENT

END:VCALENDAR
