BEGIN:VCALENDAR
VERSION:2.0
PRODID:-//ChamberMaster//Event Calendar 2.0//EN
METHOD:PUBLISH
X-PUBLISHED-TTL:P3D
REFRESH-INTERVAL:P3D
CALSCALE:GREGORIAN
BEGIN:VEVENT
DTSTART:20120525T000000Z
DTEND:20120525T013000Z
X-MICROSOFT-CDO-ALLDAYEVENT:FALSE
SUMMARY:Learn How You Can Make a Difference in the Life of an Abused and Neglected Child!
DESCRIPTION:Join us for an introduction to CASA (Court Appointed Special Advocates) of Adams and Broomfield Counties and learn how you can use your voice to speak up on behalf of an abused and neglected child in court.\n\n\n\nPizza will be provided by our caring community partner\, Marco's Pizza.
X-ALT-DESC;FMTTYPE=text/html:Join us for an introduction to CASA (Court Appointed Special Advocates) of Adams and Broomfield Counties and learn how you can use your voice to speak up on behalf of an abused and neglected child in court.<br />\n<br />\nPizza will be provided by our caring community partner\, Marco&#39\;s Pizza. 
LOCATION:Anythink Library 9417 Huron St\, Thornton\, CO
UID:e.641.4011
SEQUENCE:3
DTSTAMP:20260419T144904Z
URL:http://business.broomfieldchamber.com/events/details/learn-how-you-can-make-a-difference-in-the-life-of-an-abused-and-neglected-child-05-24-2012-4011
END:VEVENT

END:VCALENDAR
