BEGIN:VCALENDAR
VERSION:2.0
PRODID:-//ChamberMaster//Event Calendar 2.0//EN
METHOD:PUBLISH
X-PUBLISHED-TTL:P3D
REFRESH-INTERVAL:P3D
CALSCALE:GREGORIAN
BEGIN:VEVENT
DTSTART:20120426T150000Z
DTEND:20120426T160000Z
X-MICROSOFT-CDO-ALLDAYEVENT:FALSE
SUMMARY:Learn How You Can Make a Difference in the Life of an Abused & Neglected Child
DESCRIPTION:Join us for an introduction to CASA (Court Appointed Special Advocates) of Adams and Broomfield Counties and learn how you can use your voice to speak up on behalf of an abused and neglected child in court.\n\n\n\nCoffee and muffins will be provided.
X-ALT-DESC;FMTTYPE=text/html:Join us for an introduction to CASA (Court Appointed Special Advocates) of Adams and Broomfield Counties and learn how you can use your voice to speak up on behalf of an abused and neglected child in court.<br />\n<br />\nCoffee and muffins will be provided.
LOCATION:Adams County Justice Center\, Law Library Conference Room 1100 Judicial Center Drive\, Brighton CO 80601
UID:e.641.4002
SEQUENCE:3
DTSTAMP:20260419T162555Z
URL:http://business.broomfieldchamber.com/events/details/learn-how-you-can-make-a-difference-in-the-life-of-an-abused-neglected-child-04-26-2012-4002
END:VEVENT

END:VCALENDAR
