BEGIN:VCALENDAR
VERSION:2.0
PRODID:-//ChamberMaster//Event Calendar 2.0//EN
METHOD:PUBLISH
X-PUBLISHED-TTL:P3D
REFRESH-INTERVAL:P3D
CALSCALE:GREGORIAN
BEGIN:VEVENT
DTSTART:20070201T070000Z
DTEND:20070201T070000Z
X-MICROSOFT-CDO-ALLDAYEVENT:FALSE
SUMMARY:Learning Lunch 02/01/07
DESCRIPTION:
X-ALT-DESC;FMTTYPE=text/html:
LOCATION:Splitz Conference Room
UID:e.641.353
SEQUENCE:3
DTSTAMP:20260423T163332Z
URL:http://business.broomfieldchamber.com/events/details/learning-lunch-02-01-07-02-01-2007-353
END:VEVENT

END:VCALENDAR
