BEGIN:VCALENDAR
VERSION:2.0
PRODID:-//ChamberMaster//Event Calendar 2.0//EN
METHOD:PUBLISH
X-PUBLISHED-TTL:P3D
REFRESH-INTERVAL:P3D
CALSCALE:GREGORIAN
BEGIN:VEVENT
DTSTART:20070724T060000Z
DTEND:20070724T060000Z
X-MICROSOFT-CDO-ALLDAYEVENT:FALSE
SUMMARY:Learning Lunch July 24\, 2007
DESCRIPTION:
X-ALT-DESC;FMTTYPE=text/html:
LOCATION:Mamie Doud Eisenhower Public Library
UID:e.641.376
SEQUENCE:3
DTSTAMP:20260423T101500Z
URL:http://business.broomfieldchamber.com/events/details/learning-lunch-july-24-2007-07-24-2007-376
END:VEVENT

END:VCALENDAR
