BEGIN:VCALENDAR
VERSION:2.0
PRODID:-//ChamberMaster//Event Calendar 2.0//EN
METHOD:PUBLISH
X-PUBLISHED-TTL:P3D
REFRESH-INTERVAL:P3D
CALSCALE:GREGORIAN
BEGIN:VEVENT
DTSTART:20070626T060000Z
DTEND:20070626T060000Z
X-MICROSOFT-CDO-ALLDAYEVENT:FALSE
SUMMARY:Learning Lunch June 26\, 2007
DESCRIPTION:
X-ALT-DESC;FMTTYPE=text/html:
LOCATION:Mamie Doud Eisenhower Public Library
UID:e.641.374
SEQUENCE:3
DTSTAMP:20260423T101500Z
URL:http://business.broomfieldchamber.com/events/details/learning-lunch-june-26-2007-06-26-2007-374
END:VEVENT

END:VCALENDAR
