BEGIN:VCALENDAR
VERSION:2.0
PRODID:-//ChamberMaster//Event Calendar 2.0//EN
METHOD:PUBLISH
X-PUBLISHED-TTL:P3D
REFRESH-INTERVAL:P3D
CALSCALE:GREGORIAN
BEGIN:VEVENT
DTSTART:20070925T060000Z
DTEND:20070925T060000Z
X-MICROSOFT-CDO-ALLDAYEVENT:FALSE
SUMMARY:Learning Lunch September\, 2007
DESCRIPTION:
X-ALT-DESC;FMTTYPE=text/html:
LOCATION:Corporate Office Centers
UID:e.641.382
SEQUENCE:3
DTSTAMP:20260423T061718Z
URL:http://business.broomfieldchamber.com/events/details/learning-lunch-september-2007-09-25-2007-382
END:VEVENT

END:VCALENDAR
