BEGIN:VCALENDAR
VERSION:2.0
PRODID:-//ChamberMaster//Event Calendar 2.0//EN
METHOD:PUBLISH
X-PUBLISHED-TTL:P3D
REFRESH-INTERVAL:P3D
CALSCALE:GREGORIAN
BEGIN:VEVENT
DTSTART:20110205T173000Z
DTEND:20110205T190000Z
X-MICROSOFT-CDO-ALLDAYEVENT:FALSE
SUMMARY:Let's Play for Emotional Health
DESCRIPTION:Children need to develop a vocabulary and practice healthy expressions of emotions\n\nGet ready to role play as you learn strategies to teach children words\, meanings\, and expressions\n\n\n\nLaughter is contagious in this session. \n\n\n\nPresenters: Kim Moroze and Jo-Lynn Yoshihara-Daly\, MSW\n\n\n\nRegister at: http://www.healthylearningpaths.org/?page=classregistration
X-ALT-DESC;FMTTYPE=text/html:Children need to develop a vocabulary and practice healthy expressions of emotions<br />\nGet ready to role play as you learn strategies to teach children words\, meanings\, and expressions<br />\n<br />\n<span style="font-size: 16px"><strong>Laughter is contagious in this session. </strong></span><br />\n<br />\nPresenters: Kim Moroze and Jo-Lynn Yoshihara-Daly\, MSW<br />\n<br />\nRegister at: http://www.healthylearningpaths.org/?page=classregistration
LOCATION:Mamie Doud Eisenhower Library\, 3 Community Park Rd\, Broomfield\, CO 80020
UID:e.641.1315
SEQUENCE:3
DTSTAMP:20260420T144201Z
URL:http://business.broomfieldchamber.com/events/details/let-s-play-for-emotional-health-02-05-2011-1315
END:VEVENT

END:VCALENDAR
