BEGIN:VCALENDAR
VERSION:2.0
PRODID:-//ChamberMaster//Event Calendar 2.0//EN
METHOD:PUBLISH
X-PUBLISHED-TTL:P3D
REFRESH-INTERVAL:P3D
CALSCALE:GREGORIAN
BEGIN:VEVENT
DTSTART;VALUE=DATE:20101116
DTEND;VALUE=DATE:20101229
TRANSP:TRANSPARENT
X-MICROSOFT-CDO-ALLDAYEVENT:TRUE
SUMMARY:Let's Talk Diabetes Classes at Exempla Good Samaritan Medical Center
DESCRIPTION:A four class series with a team of diabetes experts will give you all the skills you need to manage your diabetes. This comprehensive series will cover: \n\nOverview of diabetes\n\nSigns of high and low blood sugar\n\nMonitoring your blood sugar at home\n\nFood composition carbs\, proteins and fats\n\nMeal planning techniques to fit your lifestyle\n\nExercise and activity\n\nMedication management of diabetes\n\nLowering your risk of complications
X-ALT-DESC;FMTTYPE=text/html:A four class series with a team of diabetes experts will give you all the skills you need to manage your diabetes. This comprehensive series will cover: \n<br>Overview of diabetes\n<br>Signs of high and low blood sugar\n<br>Monitoring your blood sugar at home\n<br>Food composition carbs\, proteins and fats\n<br>Meal planning techniques to fit your lifestyle\n<br>Exercise and activity\n<br>Medication management of diabetes\n<br>Lowering your risk of complications
LOCATION:Exempla Good Samaritan Medical Center - Lafayette\, Colorado Community Physicians Pavilion
UID:e.641.1241
SEQUENCE:3
DTSTAMP:20260420T173521Z
URL:http://business.broomfieldchamber.com/events/details/let-s-talk-diabetes-classes-at-exempla-good-samaritan-medical-center-11-16-2010-1241
END:VEVENT

END:VCALENDAR
