BEGIN:VCALENDAR
VERSION:2.0
PRODID:-//ChamberMaster//Event Calendar 2.0//EN
METHOD:PUBLISH
X-PUBLISHED-TTL:P3D
REFRESH-INTERVAL:P3D
CALSCALE:GREGORIAN
BEGIN:VEVENT
DTSTART:20101024T170000Z
DTEND:20101024T200000Z
X-MICROSOFT-CDO-ALLDAYEVENT:FALSE
SUMMARY:Lionsgate's Free Fall Bridal Show
DESCRIPTION:Our Fall Bridal Show will be showcasing\n\nover 50 vendors!\n\n\n\nBring your friends and family\n\n\n\nFree food and Champagne Tastings\n\n\n\nNo charge and no RSVP required
X-ALT-DESC;FMTTYPE=text/html:<br />\n<span style="font-size: 14px"><strong>Our Fall Bridal Show will be showcasing<br />\nover 50 vendors!<br />\n<br />\nBring your friends and family<br />\n<br />\nFree food and Champagne Tastings<br />\n<br />\nNo charge and no RSVP required</strong></span>
LOCATION:1055 South 112th Street (Highway 287) Lafayette\, CO 80026
UID:e.641.1196
SEQUENCE:3
DTSTAMP:20260420T202259Z
URL:http://business.broomfieldchamber.com/events/details/lionsgate-s-free-fall-bridal-show-10-24-2010-1196
END:VEVENT

END:VCALENDAR
