BEGIN:VCALENDAR
VERSION:2.0
PRODID:-//ChamberMaster//Event Calendar 2.0//EN
METHOD:PUBLISH
X-PUBLISHED-TTL:P3D
REFRESH-INTERVAL:P3D
CALSCALE:GREGORIAN
BEGIN:VEVENT
DTSTART:20110507T180000Z
DTEND:20110507T220000Z
X-MICROSOFT-CDO-ALLDAYEVENT:FALSE
SUMMARY:LOFTEA CAFE Grand Opening!
DESCRIPTION:Come join us as Loftea Cafe celebrates its Grand Opening\, we'll be having our vendors offer free samples of the products we carry at our coffee shop:\n\n\n\n* Breggo's\n\n* Evol Burritos\n\n* Pablo's Coffee\n\n* Zanitea Specialty Teas
X-ALT-DESC;FMTTYPE=text/html:Come join us as Loftea Cafe celebrates its Grand Opening\, we&#39\;ll be having our vendors offer free samples of the products we carry at our coffee shop:<br />\n<br />\n* Breggo&#39\;s<br />\n* Evol Burritos<br />\n* Pablo&#39\;s Coffee<br />\n* Zanitea Specialty Teas<br />\n&nbsp\;
LOCATION:11542 Colony Row Broomfield\, CO 80021 * We are located by the 1st Bank Center\, bring your ticket stub from any event you attend there and receive a free drink :)
UID:e.641.1453
SEQUENCE:3
DTSTAMP:20260420T075929Z
URL:http://business.broomfieldchamber.com/events/details/loftea-cafe-grand-opening-05-07-2011-1453
END:VEVENT

END:VCALENDAR
