BEGIN:VCALENDAR
VERSION:2.0
PRODID:-//ChamberMaster//Event Calendar 2.0//EN
METHOD:PUBLISH
X-PUBLISHED-TTL:P3D
REFRESH-INTERVAL:P3D
CALSCALE:GREGORIAN
BEGIN:VEVENT
DTSTART:20110507T180000Z
DTEND:20110507T210000Z
X-MICROSOFT-CDO-ALLDAYEVENT:FALSE
SUMMARY:Loftea Cafe Grand Opening!!!
DESCRIPTION:Join us to celebrate Loftea Cafe's Grand Opening!!!\n\nWe'll be offering free samples of our food & drink goodies along with several prizes :)\n\n\n\nThese are some of the products we carry at Loftea Cafe:\n\n* Breggos Baked Sandwiches\n\n* Evol Burritos\n\n* Pablo's Coffee\n\n* Vuka Energy Drink\n\n* Big B's Juices\n\n* Bobo's Oat Bars\n\n* Whoopie Pies\n\n* Olomomo Nuts\n\n* Sanctuary Chai\n\n* Noosa Yoghurt\n\n* Cocomels\n\n***** And many more locally made breads :)
X-ALT-DESC;FMTTYPE=text/html:Join us to celebrate Loftea Cafe&#39\;s Grand Opening!!!<br />\nWe&#39\;ll be offering free samples of our food &amp\; drink goodies along with several prizes :)<br />\n<br />\nThese are some of the products we carry at Loftea Cafe:<br />\n* Breggos Baked Sandwiches<br />\n* Evol Burritos<br />\n* Pablo&#39\;s Coffee<br />\n* Vuka Energy Drink<br />\n* Big B&#39\;s Juices<br />\n* Bobo&#39\;s Oat Bars<br />\n* Whoopie Pies<br />\n* Olomomo Nuts<br />\n* Sanctuary Chai<br />\n* Noosa Yoghurt<br />\n* Cocomels<br />\n***** And many more locally made breads :)
LOCATION:11542 Colony Row Broomfield\, CO 80021
UID:e.641.1461
SEQUENCE:3
DTSTAMP:20260420T075922Z
URL:http://business.broomfieldchamber.com/events/details/loftea-cafe-grand-opening-05-07-2011-1461
END:VEVENT

END:VCALENDAR
