BEGIN:VCALENDAR
VERSION:2.0
PRODID:-//ChamberMaster//Event Calendar 2.0//EN
METHOD:PUBLISH
X-PUBLISHED-TTL:P3D
REFRESH-INTERVAL:P3D
CALSCALE:GREGORIAN
BEGIN:VEVENT
DTSTART:20111102T010000Z
DTEND:20111102T020000Z
X-MICROSOFT-CDO-ALLDAYEVENT:FALSE
SUMMARY:Lowering Your Blood Pressure Without Medication
DESCRIPTION:Having high blood pressure puts you at greater risk for heart attack and stroke. That's why it's vitally important to control high blood pressure. Luckily\, effective treatment isn't limited to medications. There are many useful alternative and complementary options.\n\n\n\nCome hear a board-certified internist who completed an advanced fellowship in complementary/alternative medicine at Harvard Medical School describe ways to treat high blood pressure without medication.\n\n\n\nRSVP: Reservations required. Call 303-441-0580 or visit bchlectures.org/bloodpressure\n\n\n\nBonus! Free blood pressure screening starting one hour before the lecture (first-come\, first-served)\n\n\n\nHosted by Buffalo Ridge Medical Center and Boulder Community Hospital.
X-ALT-DESC;FMTTYPE=text/html:Having high blood pressure puts you at greater risk for heart attack and stroke. That&rsquo\;s why it&rsquo\;s vitally important to control high blood pressure. Luckily\, effective treatment isn&rsquo\;t limited to medications. There are many useful alternative and complementary options.<br />\n<br />\nCome hear a board-certified internist who completed an advanced fellowship in complementary/alternative medicine at Harvard Medical School describe ways to treat high blood pressure without medication.<br />\n<br />\nRSVP: Reservations required. Call 303-441-0580 or visit bchlectures.org/bloodpressure<br />\n<br />\n<strong><em>Bonus! Free blood pressure screening starting one hour before the lecture (first-come\, first-served)</em></strong><br />\n<br />\nHosted by Buffalo Ridge Medical Center and Boulder Community Hospital.
LOCATION:Omni Interlocken Spa & Resort\, 500 Interlocken Blvd.\, Broomfield
UID:e.641.3103
SEQUENCE:3
DTSTAMP:20260419T235119Z
URL:http://business.broomfieldchamber.com/events/details/lowering-your-blood-pressure-without-medication-11-01-2011-3103
END:VEVENT

END:VCALENDAR
