BEGIN:VCALENDAR
VERSION:2.0
PRODID:-//ChamberMaster//Event Calendar 2.0//EN
METHOD:PUBLISH
X-PUBLISHED-TTL:P3D
REFRESH-INTERVAL:P3D
CALSCALE:GREGORIAN
BEGIN:VEVENT
DTSTART:20120202T020000Z
DTEND:20120202T030000Z
X-MICROSOFT-CDO-ALLDAYEVENT:FALSE
SUMMARY:Managing Your Weight
DESCRIPTION:Does maintaining a healthy body weight seem like a never-ending roller coaster ride? You start to shed some of those extra pounds\, but then the weight loss stops or you regain the weight. Luckily\, there are practical steps you can take to get and keep your body weight at a healthy level. Come hear a board-certified family physician describe how to determine your optimal weight\, what actions can lead to weight loss and how to maintain a healthy weight.
X-ALT-DESC;FMTTYPE=text/html:Does maintaining a healthy body weight seem like a never-ending roller coaster ride? You start to shed some of those extra pounds\, but then the weight loss stops or you regain the weight. Luckily\, there are practical steps you can take to get and keep your body weight at a healthy level. Come hear a board-certified family physician describe how to determine your optimal weight\, what actions can lead to weight loss and how to maintain a healthy weight.
LOCATION:Omni Interlocken Spa & Resort\, 500 Interlocken Blvd.\, Broomfield
UID:e.641.3226
SEQUENCE:3
DTSTAMP:20260419T193141Z
URL:http://business.broomfieldchamber.com/events/details/managing-your-weight-02-01-2012-3226
END:VEVENT

END:VCALENDAR
