BEGIN:VCALENDAR
VERSION:2.0
PRODID:-//ChamberMaster//Event Calendar 2.0//EN
METHOD:PUBLISH
X-PUBLISHED-TTL:P3D
REFRESH-INTERVAL:P3D
CALSCALE:GREGORIAN
BEGIN:VEVENT
DTSTART:20120614T000000Z
DTEND:20120614T010000Z
X-MICROSOFT-CDO-ALLDAYEVENT:FALSE
SUMMARY:Mat Pilates class at Custom Made Fitness\, LLC
DESCRIPTION:Mat Pilates class starting April 11th and ending May 16th. This is a small group class. Please go to www.custommadefitness.com\, Click on the Group Training and scroll down to select your class\, register and pay to be part of the class!
X-ALT-DESC;FMTTYPE=text/html:<p>\n	Mat Pilates class starting April 11th and ending May 16th. This is a small group class. Please go to <a href="http://www.custommadefitness.com">www.custommadefitness.com</a>\, Click on the Group Training and scroll down to select your class\, register and pay to be part of the class!</p>\n
LOCATION:8120 Sheridan Blvd. A-102\, Westminster\, CO 80003
UID:e.641.3959
SEQUENCE:3
DTSTAMP:20260419T133157Z
URL:http://business.broomfieldchamber.com/events/details/mat-pilates-class-at-custom-made-fitness-llc-06-13-2012-3959
END:VEVENT

END:VCALENDAR
