BEGIN:VCALENDAR
VERSION:2.0
PRODID:-//ChamberMaster//Event Calendar 2.0//EN
METHOD:PUBLISH
X-PUBLISHED-TTL:P3D
REFRESH-INTERVAL:P3D
CALSCALE:GREGORIAN
BEGIN:VEVENT
DTSTART:20110506T233000Z
DTEND:20110507T020000Z
X-MICROSOFT-CDO-ALLDAYEVENT:FALSE
SUMMARY:Meals on Wheels Basket Auction
DESCRIPTION:Enjoy entertainment\, appetizers\, and wine while you view and bid on a beautiful array of baskets filled with goods and services. Meals on Wheels provides over 2000 meals each month to Broomfield's home bound citizens. No federal or state funding is received for this program. Therefore\, we depend on the generosity of the community for funding.\n\n\n\nNote: Donations of goods and services for this event are greatly appreciated.
X-ALT-DESC;FMTTYPE=text/html:Enjoy entertainment\, appetizers\, and wine while you view and bid on a beautiful array of baskets filled with goods and services. Meals on Wheels provides over 2000 meals each month to Broomfield's home bound citizens. No federal or state funding is received for this program. Therefore\, we depend on the generosity of the community for funding.\n<br>\n<br>Note: Donations of goods and services for this event are greatly appreciated.
LOCATION:Broomfield Community Center - 280 Lamar Street\, Broomfield
UID:e.641.1409
SEQUENCE:3
DTSTAMP:20260420T080248Z
URL:http://business.broomfieldchamber.com/events/details/meals-on-wheels-basket-auction-05-06-2011-1409
END:VEVENT

END:VCALENDAR
