BEGIN:VCALENDAR
VERSION:2.0
PRODID:-//ChamberMaster//Event Calendar 2.0//EN
METHOD:PUBLISH
X-PUBLISHED-TTL:P3D
REFRESH-INTERVAL:P3D
CALSCALE:GREGORIAN
BEGIN:VEVENT
DTSTART:20100511T233000Z
DTEND:20100512T020000Z
X-MICROSOFT-CDO-ALLDAYEVENT:FALSE
SUMMARY:Meet Up for the Money
DESCRIPTION:Money is available to grow and substain your business.  Our expert speakers will be covering the following topics:\n\n br \n\n br How to get up to $25\,000 within 3 weeks to start or expand your business\, discover how to separate your personal credit from your business credit\, protecting your personal assets\, what to look for in a business banker\, how to receive business loans in today's tight economy and the importance of having a relationship with your bank!  \n\n br \n\n br There will be a time for Q & A immediately following the last speaker.\n\n br
X-ALT-DESC;FMTTYPE=text/html:Money is available to grow and substain your business.  Our expert speakers will be covering the following topics:\n<br>&lt\;br&gt\;\n<br>&lt\;br&gt\;How to get up to $25\,000 within 3 weeks to start or expand your business\, discover how to separate your personal credit from your business credit\, protecting your personal assets\, what to look for in a business banker\, how to receive business loans in today's tight economy and the importance of having a relationship with your bank!  \n<br>&lt\;br&gt\;\n<br>&lt\;br&gt\;There will be a time for Q &amp\; A immediately following the last speaker.\n<br>&lt\;br&gt\;
LOCATION:C.B. Potts (banquet room) br 1257 W. 120th Ave.
UID:e.641.1065
SEQUENCE:3
DTSTAMP:20260421T024948Z
URL:http://business.broomfieldchamber.com/events/details/meet-up-for-the-money-05-11-2010-1065
END:VEVENT

END:VCALENDAR
