BEGIN:VCALENDAR
VERSION:2.0
PRODID:-//ChamberMaster//Event Calendar 2.0//EN
METHOD:PUBLISH
X-PUBLISHED-TTL:P3D
REFRESH-INTERVAL:P3D
CALSCALE:GREGORIAN
BEGIN:VEVENT
DTSTART:20100623T000000Z
DTEND:20100623T020000Z
X-MICROSOFT-CDO-ALLDAYEVENT:FALSE
SUMMARY:MeetUP for the Money
DESCRIPTION:MeetUP for the Money\n\n\n\nHear directly from top industry leaders on how to receive business loans in today's tight economy.  Learn how to get up to $25K within 3 weeks to start or expand your business.  Discover how to separate your personal credit form your business credit and protect your families assets!
X-ALT-DESC;FMTTYPE=text/html:MeetUP for the Money\n<br>\n<br>Hear directly from top industry leaders on how to receive business loans in today's tight economy.  Learn how to get up to $25K within 3 weeks to start or expand your business.  Discover how to separate your personal credit form your business credit and protect your families assets!  
LOCATION:Hyatt Summerfield Suites 13351 W. Midway\, Broomfield
UID:e.641.1095
SEQUENCE:3
DTSTAMP:20260421T023201Z
URL:http://business.broomfieldchamber.com/events/details/meetup-for-the-money-06-22-2010-1095
END:VEVENT

END:VCALENDAR
