BEGIN:VCALENDAR
VERSION:2.0
PRODID:-//ChamberMaster//Event Calendar 2.0//EN
METHOD:PUBLISH
X-PUBLISHED-TTL:P3D
REFRESH-INTERVAL:P3D
CALSCALE:GREGORIAN
BEGIN:VEVENT
DTSTART:20100425T003000Z
DTEND:20100425T033000Z
X-MICROSOFT-CDO-ALLDAYEVENT:FALSE
SUMMARY:Member Event at Broomfield County Republicans
DESCRIPTION:Broomfield County Republicans Lincoln Dinner. This is our major fundraiser for the year. Featured speakers: John Caldera\, President of the Independence Institute\, Stephen Green\, Denver editor of PJTV\, Mike Holler\, Author of The Constitution made Easy and Tom Tancredo.\n\n\n\nCome and be with like-minded folks for a fun and important evening.
X-ALT-DESC;FMTTYPE=text/html:Broomfield County Republicans Lincoln Dinner. This is our major fundraiser for the year. Featured speakers: John Caldera\, President of the Independence Institute\, Stephen Green\, Denver editor of PJTV\, Mike Holler\, Author of The Constitution made Easy and Tom Tancredo.\n<br>\n<br>Come and be with like-minded folks for a fun and important evening. 
LOCATION:Omni Interlocken Resort\, 500 Interlocken Blvd
UID:e.641.1019
SEQUENCE:3
DTSTAMP:20260421T055900Z
URL:http://business.broomfieldchamber.com/events/details/member-event-at-broomfield-county-republicans-04-24-2010-1019
END:VEVENT

END:VCALENDAR
