BEGIN:VCALENDAR
VERSION:2.0
PRODID:-//ChamberMaster//Event Calendar 2.0//EN
METHOD:PUBLISH
X-PUBLISHED-TTL:P3D
REFRESH-INTERVAL:P3D
CALSCALE:GREGORIAN
BEGIN:VEVENT
DTSTART;VALUE=DATE:20100422
DTEND;VALUE=DATE:20100426
TRANSP:TRANSPARENT
X-MICROSOFT-CDO-ALLDAYEVENT:TRUE
SUMMARY:Member Event at Whole Foods Market- Superior
DESCRIPTION:Earth Day is April 22! Join us for four day's of fun and give-a ways. The first 300 Customers will receive a FREE reusable Sheryl Crow bag.  Register Bingo- Customers have a chance to win a Bag of Compost. Saturday\, April 24 1:00PM-3:00PM. Kids- join us for facepainting\, make an Earth\, Glider contest\, music and more!
X-ALT-DESC;FMTTYPE=text/html:Earth Day is April 22! Join us for four day's of fun and give-a ways. The first 300 Customers will receive a FREE reusable Sheryl Crow bag.  Register Bingo- Customers have a chance to win a Bag of Compost. Saturday\, April 24 1:00PM-3:00PM. Kids- join us for facepainting\, make an Earth\, Glider contest\, music and more! 
LOCATION:Superior Whole Foods Market 303 Marshall Rd. Superior\, Co. 80027 720-274-1415
UID:e.641.1018
SEQUENCE:3
DTSTAMP:20260421T040954Z
URL:http://business.broomfieldchamber.com/events/details/member-event-at-whole-foods-market-superior-04-22-2010-1018
END:VEVENT

END:VCALENDAR
