BEGIN:VCALENDAR
VERSION:2.0
PRODID:-//ChamberMaster//Event Calendar 2.0//EN
METHOD:PUBLISH
X-PUBLISHED-TTL:P3D
REFRESH-INTERVAL:P3D
CALSCALE:GREGORIAN
BEGIN:VEVENT
DTSTART:20100420T233000Z
DTEND:20100421T013000Z
X-MICROSOFT-CDO-ALLDAYEVENT:FALSE
SUMMARY:Member Event - Pro Se Divorce Clinic
DESCRIPTION:If you are thinking about representing yourself in divorce proceedings\, be sure to attend this free class. Led by Cynthia Ciancio\, shareholder and leader of DCG's Family Law Team\, the clinic will focus on the fundamentals - from filing to final dissolution - of how best to navigate this sensitive and tricky legal process.
X-ALT-DESC;FMTTYPE=text/html:If you are thinking about representing yourself in divorce proceedings\, be sure to attend this free class. Led by Cynthia Ciancio\, shareholder and leader of DCG's Family Law Team\, the clinic will focus on the fundamentals - from filing to final dissolution - of how best to navigate this sensitive and tricky legal process.\n<br>
LOCATION:Donelson Ciancio & Goodwin office: 8001 Arista Place\, Suite 400\, West Office Entry Broomfield\, CO 80021
UID:e.641.1017
SEQUENCE:3
DTSTAMP:20260421T040814Z
URL:http://business.broomfieldchamber.com/events/details/member-event-pro-se-divorce-clinic-04-20-2010-1017
END:VEVENT

END:VCALENDAR
