BEGIN:VCALENDAR
VERSION:2.0
PRODID:-//ChamberMaster//Event Calendar 2.0//EN
METHOD:PUBLISH
X-PUBLISHED-TTL:P3D
REFRESH-INTERVAL:P3D
CALSCALE:GREGORIAN
BEGIN:VEVENT
DTSTART;VALUE=DATE:20110210
DTEND;VALUE=DATE:20110211
TRANSP:TRANSPARENT
X-MICROSOFT-CDO-ALLDAYEVENT:TRUE
SUMMARY:Membership Orientation
DESCRIPTION:Learn how to get the most from your membership in the Broomfield Chamber by attending the Membership Orientation meeting.\n\n	- Discover all the benefits of your membership in the Chamber\n\n	- Learn about the Chamber's networking events leads groups and other business-   building opportunities\n\n	- Become familiar with all of the advertising opportunities available in the Chamber\,  \n\n	   and network with fellow new members!\n\n	\n\n	*RSVP required\, please contact Lisa Scott to RSVP at LisaScott@BroomfieldChamber.com\n\n	Please\, comn \, please con  \,
X-ALT-DESC;FMTTYPE=text/html:<p>\n	<strong>Learn how to get the most from your membership in the Broomfield Chamber by attending the Membership Orientation meeting.</strong></p>\n<p>\n	- Discover all the benefits of your membership in the Chamber<br />\n	- Learn about the Chamber&rsquo\;s networking events leads groups and other business-&nbsp\;&nbsp\;&nbsp\;building&nbsp\;opportunities<br />\n	- Become familiar with all of the advertising opportunities available in the Chamber\,&nbsp\;&nbsp\;<br />\n	&nbsp\; &nbsp\;and&nbsp\;network&nbsp\;with&nbsp\;fellow new members!<br />\n	<br />\n	*RSVP required\, please contact Lisa Scott to RSVP at <a href="mailto:LisaScott@BroomfieldChamber.com">LisaScott@BroomfieldChamber.com</a><br />\n	<span _fck_bookmark="1" style="display: none">Please\, comn&nbsp\;\, please con&nbsp\; \, </span></p>\n
LOCATION:The Stratford at Flatirons 400 Summit Boulevard Broomfield\, CO 80021 In the Community Life Room www.stratfordflatirons.com
UID:e.641.1295
SEQUENCE:3
DTSTAMP:20260422T085723Z
URL:http://business.broomfieldchamber.com/events/details/membership-orientation-02-10-2011-1295
END:VEVENT

END:VCALENDAR
