BEGIN:VCALENDAR
VERSION:2.0
PRODID:-//ChamberMaster//Event Calendar 2.0//EN
METHOD:PUBLISH
X-PUBLISHED-TTL:P3D
REFRESH-INTERVAL:P3D
CALSCALE:GREGORIAN
BEGIN:VEVENT
DTSTART:20111108T153000Z
DTEND:20111108T173000Z
X-MICROSOFT-CDO-ALLDAYEVENT:FALSE
SUMMARY:Membership Orientation at Western Air Flight Academy
DESCRIPTION:Join us for a Membership Orientation meeting to discuss all the benefits the Broomfield Chamber provides to you!\n\n\n\nHosted by:\n\n\n\nWestern Air Flight Academy
X-ALT-DESC;FMTTYPE=text/html:<span class="cm_editor_fix"><span class="cm_editor_fix"><span style="font-size: 14px"><strong>Join us for a Membership Orientation meeting&nbsp\;to discuss all the benefits the Broomfield Chamber provides to you!<br />\n<br />\nHosted by:</strong></span></span></span><br />\n<br />\n<span style="font-size: 16px"><em><strong>Western Air Flight Academy</strong></em></span>
LOCATION:11915 Airport Way\, Suite 4 Broomfield\, CO 80021
UID:e.641.1408
SEQUENCE:3
DTSTAMP:20260419T235236Z
URL:http://business.broomfieldchamber.com/events/details/membership-orientation-at-western-air-flight-academy-11-08-2011-1408
END:VEVENT

END:VCALENDAR
