BEGIN:VCALENDAR
VERSION:2.0
PRODID:-//ChamberMaster//Event Calendar 2.0//EN
METHOD:PUBLISH
X-PUBLISHED-TTL:P3D
REFRESH-INTERVAL:P3D
CALSCALE:GREGORIAN
BEGIN:VEVENT
DTSTART:20070104T070000Z
DTEND:20070104T070000Z
X-MICROSOFT-CDO-ALLDAYEVENT:FALSE
SUMMARY:Membership Orientation- January 2007
DESCRIPTION:
X-ALT-DESC;FMTTYPE=text/html:
LOCATION:The Chamber Serving the Broomfield Area
UID:e.641.343
SEQUENCE:3
DTSTAMP:20260423T175712Z
URL:http://business.broomfieldchamber.com/events/details/membership-orientation-january-2007-01-04-2007-343
END:VEVENT

END:VCALENDAR
