BEGIN:VCALENDAR
VERSION:2.0
PRODID:-//ChamberMaster//Event Calendar 2.0//EN
METHOD:PUBLISH
X-PUBLISHED-TTL:P3D
REFRESH-INTERVAL:P3D
CALSCALE:GREGORIAN
BEGIN:VEVENT
DTSTART:20090605T060000Z
DTEND:20090605T060000Z
X-MICROSOFT-CDO-ALLDAYEVENT:FALSE
SUMMARY:Membership Orientation June 2009
DESCRIPTION:
X-ALT-DESC;FMTTYPE=text/html:
LOCATION:Corporate Office Centers
UID:e.641.449
SEQUENCE:3
DTSTAMP:20260421T203447Z
URL:http://business.broomfieldchamber.com/events/details/membership-orientation-june-2009-06-05-2009-449
END:VEVENT

END:VCALENDAR
