BEGIN:VCALENDAR
VERSION:2.0
PRODID:-//ChamberMaster//Event Calendar 2.0//EN
METHOD:PUBLISH
X-PUBLISHED-TTL:P3D
REFRESH-INTERVAL:P3D
CALSCALE:GREGORIAN
BEGIN:VEVENT
DTSTART:20100603T143000Z
DTEND:20100603T163000Z
X-MICROSOFT-CDO-ALLDAYEVENT:FALSE
SUMMARY:Membership Orientation June 2010
DESCRIPTION:Learn how to get the most from your membership in the Broomfield Chamber by attending the Membership Orientation meeting. Discover all the benefits of your membership in the ChamberLearn about the Chamber's networking events leads groups and other business-building opportunitiesBecome familiar with all of the advertising opportunities available in the ChamberRefreshments will be provided RSVP required! Deadline for registration is Wednesday\, June 2nd at 12:00 NoonEmail Lisa Scott to RSVP @ Lisa.Scott@BroomfieldChamber.com
X-ALT-DESC;FMTTYPE=text/html:<div><strong>Learn how to get the most <strong>from your membership in the Broomfield Chamber by attending the Membership Orientation meeting.</strong></strong></div><div>&nbsp\;</div><ul><li>Discover all the benefits of your membership in the Chamber</li><li>Learn about the Chamber&rsquo\;s networking events leads groups and other business-building opportunities</li><li>Become familiar with all of the advertising opportunities available in the Chamber</li></ul><div><strong>Refreshments will be provided</strong></div><div>&nbsp\;</div><div><strong>RSVP required!</strong></div><div>&nbsp\;</div><div>Deadline for registration is Wednesday\,&nbsp\;June 2nd&nbsp\;at 12:00 Noon</div><div>Email Lisa&nbsp\;Scott to&nbsp\;RSVP @ <a href="mailto:Lisa.Scott@BroomfieldChamber.com">Lisa.Scott@BroomfieldChamber.com</a></div>
LOCATION:Corporate Office Centers12303 Airport WaySuite 200Broomfield\, CO 80021
UID:e.641.463
SEQUENCE:3
DTSTAMP:20260421T011732Z
URL:http://business.broomfieldchamber.com/events/details/membership-orientation-june-2010-06-03-2010-463
END:VEVENT

END:VCALENDAR
