BEGIN:VCALENDAR
VERSION:2.0
PRODID:-//ChamberMaster//Event Calendar 2.0//EN
METHOD:PUBLISH
X-PUBLISHED-TTL:P3D
REFRESH-INTERVAL:P3D
CALSCALE:GREGORIAN
BEGIN:VEVENT
DTSTART:20091001T060000Z
DTEND:20091001T060000Z
X-MICROSOFT-CDO-ALLDAYEVENT:FALSE
SUMMARY:Membership Orientation October 2009
DESCRIPTION:
X-ALT-DESC;FMTTYPE=text/html:
LOCATION:Corporate Office Centers
UID:e.641.454
SEQUENCE:3
DTSTAMP:20260421T134957Z
URL:http://business.broomfieldchamber.com/events/details/membership-orientation-october-2009-10-01-2009-454
END:VEVENT

END:VCALENDAR
