BEGIN:VCALENDAR
VERSION:2.0
PRODID:-//ChamberMaster//Event Calendar 2.0//EN
METHOD:PUBLISH
X-PUBLISHED-TTL:P3D
REFRESH-INTERVAL:P3D
CALSCALE:GREGORIAN
BEGIN:VEVENT
DTSTART:20071101T060000Z
DTEND:20071101T060000Z
X-MICROSOFT-CDO-ALLDAYEVENT:FALSE
SUMMARY:Membership Orientation11/07
DESCRIPTION:
X-ALT-DESC;FMTTYPE=text/html:
LOCATION:Corporate Office Centers
UID:e.641.350
SEQUENCE:3
DTSTAMP:20260423T044118Z
URL:http://business.broomfieldchamber.com/events/details/membership-orientation11-07-11-01-2007-350
END:VEVENT

END:VCALENDAR
