BEGIN:VCALENDAR
VERSION:2.0
PRODID:-//ChamberMaster//Event Calendar 2.0//EN
METHOD:PUBLISH
X-PUBLISHED-TTL:P3D
REFRESH-INTERVAL:P3D
CALSCALE:GREGORIAN
BEGIN:VEVENT
DTSTART;VALUE=DATE:20120528
DTEND;VALUE=DATE:20120529
TRANSP:TRANSPARENT
X-MICROSOFT-CDO-ALLDAYEVENT:TRUE
SUMMARY:Memorial Day
DESCRIPTION:The Broomfield Chamber Office will be closed all day on Monday\, May 28th in observance of Memorial Day. If you are in need of any information regarding the Chamber please go to: http://www.broomfieldchamber.com/
X-ALT-DESC;FMTTYPE=text/html:The Broomfield Chamber Office will be closed all day on Monday\,&nbsp\;May 28th in observance of&nbsp\;Memorial Day. If you are in need of any information regarding the Chamber please go to: <a href="http://www.broomfieldchamber.com/">http://www.broomfieldchamber.com/</a>
LOCATION:
UID:e.641.3168
SEQUENCE:3
DTSTAMP:20260419T144449Z
URL:http://business.broomfieldchamber.com/events/details/memorial-day-05-28-2012-3168
END:VEVENT

END:VCALENDAR
