BEGIN:VCALENDAR
VERSION:2.0
PRODID:-//ChamberMaster//Event Calendar 2.0//EN
METHOD:PUBLISH
X-PUBLISHED-TTL:P3D
REFRESH-INTERVAL:P3D
CALSCALE:GREGORIAN
BEGIN:VEVENT
DTSTART:20110528T150000Z
DTEND:20110528T180000Z
X-MICROSOFT-CDO-ALLDAYEVENT:FALSE
SUMMARY:Memorial Day Veteran Celebration and Flag Dedication.
DESCRIPTION:Memorial Day Veteran Celebration and Flag Dedication.\n\n\n\nMemorial Day May 28\, 29\, 30 2011\n\n\n\n8:00 AM   Flag setting on all Veteran burial\n\nCompliments of Boy Scout Troop 767 \n\nHope Lutheran Church Broomfield\, Colorado\n\n\n\n10:00 AM Opening Invocation\n\nCompliments of Celebrant Buddy Fricke \n\n\n\n10:15 AM  Flag Dedication Ceremony American Legion Post 1111	\n\nNew U.S. Flag Donated by American Legion Post 84 \n\nDenver\, Colorado\n\nNew POW Flag Donated by American Legion Post 84 \n\nDenver\, Colorado\n\n\n\n10:45 AM Deceased Veteran Roll Call and Bell Ringing Ceremony presented by\n\nAmerican Legion Post 22 Commerce City\, Colorado\n\n\n\n11:00 AM  Honor Guard American Legion Post 1111\n\n21 Gun Volley in Honor of our Deceased Veterans\n\n\n\n11:15 AM  21 White Dove release in Honor of our Deceased Veterans\n\nCompliments of Tom Loux White Birds Unlimited\n\n\n\n11:30 AM  Closing Prayer                \n\nCelebrant Buddy Fricke
X-ALT-DESC;FMTTYPE=text/html:Memorial Day Veteran Celebration and Flag Dedication.\n<br>\n<br>Memorial Day May 28\, 29\, 30 2011\n<br>\n<br>8:00 AM   Flag setting on all Veteran burial\n<br>Compliments of Boy Scout Troop 767 \n<br>Hope Lutheran Church Broomfield\, Colorado\n<br>\n<br>10:00 AM Opening Invocation\n<br>Compliments of Celebrant Buddy Fricke \n<br>\n<br>10:15 AM  Flag Dedication Ceremony American Legion Post 1111	\n<br>New U.S. Flag Donated by American Legion Post 84 \n<br>Denver\, Colorado\n<br>New POW Flag Donated by American Legion Post 84 \n<br>Denver\, Colorado\n<br>\n<br>10:45 AM Deceased Veteran Roll Call and Bell Ringing Ceremony presented by\n<br>American Legion Post 22 Commerce City\, Colorado\n<br>\n<br>11:00 AM  Honor Guard American Legion Post 1111\n<br>21 Gun Volley in Honor of our Deceased Veterans\n<br>\n<br>11:15 AM  21 White Dove release in Honor of our Deceased Veterans\n<br>Compliments of Tom Loux White Birds Unlimited\n<br>\n<br>11:30 AM  Closing Prayer                \n<br>Celebrant Buddy Fricke\n<br>
LOCATION:200 East 168th Avenue Broomfield\, Colorado 80020
UID:e.641.1446
SEQUENCE:3
DTSTAMP:20260420T075932Z
URL:http://business.broomfieldchamber.com/events/details/memorial-day-veteran-celebration-and-flag-dedication-05-28-2011-1446
END:VEVENT

END:VCALENDAR
