BEGIN:VCALENDAR
VERSION:2.0
PRODID:-//ChamberMaster//Event Calendar 2.0//EN
METHOD:PUBLISH
X-PUBLISHED-TTL:P3D
REFRESH-INTERVAL:P3D
CALSCALE:GREGORIAN
BEGIN:VEVENT
DTSTART:20091201T070000Z
DTEND:20091201T070000Z
X-MICROSOFT-CDO-ALLDAYEVENT:FALSE
SUMMARY:Men In Business 2009
DESCRIPTION:
X-ALT-DESC;FMTTYPE=text/html:
LOCATION:BJ's Restaurant and Brewhouse
UID:e.641.458
SEQUENCE:3
DTSTAMP:20260421T122829Z
URL:http://business.broomfieldchamber.com/events/details/men-in-business-2009-12-01-2009-458
END:VEVENT

END:VCALENDAR
