BEGIN:VCALENDAR
VERSION:2.0
PRODID:-//ChamberMaster//Event Calendar 2.0//EN
METHOD:PUBLISH
X-PUBLISHED-TTL:P3D
REFRESH-INTERVAL:P3D
CALSCALE:GREGORIAN
BEGIN:VEVENT
DTSTART:20111116T160000Z
DTEND:20111117T000000Z
X-MICROSOFT-CDO-ALLDAYEVENT:FALSE
SUMMARY:Middle School Open House - Broomfield Academy: November 16\, 9 am & 5 pm
DESCRIPTION:Broomfield Academy will be holding a special open house on November 16 for families interested in learning more about middle school\, grades 5-8.\n\n\n\nThe open house will include an overview of the middle school program\, a tour of the campus and middle school\, a chance to meet with the principal and middle school staff and an opportunity to learn more about individualized educational programs that help children to become exceptional\, accelerated\, and creative students. The middle school program focuses on assuring strong preparation for high school and college and it includes a wide range of core and elective curriculum components\, a community mentorship program\, an independent student learning plan for each student and significant use of technology in the classroom.\n\n\n\nNationally accredited Broomfield Academy provides a unique educational environment and delivers high-quality educational programs for children in preschool through eighth grade. Ages 2 1/2 14. There is also an optional extended-day option for working parents.\n\n\n\nWe invite you to tour the campus\, meet the teachers and staff\, and become acquainted with the curriculum and philosophy. We knows you'll agree there's something special happening at Broomfield Academy!\n\n\n\nPlease e-mail amcfarlane@broomfieldacademy.com or call (303) 469-6449 to RSVP for the open house or to schedule an independent tour. Your children are welcome to attend.\n\n\n\n9 AM and again at 5 PM\n\n7203 West 120th Avenue\, Broomfield\, CO 80020\n\n(303) 469-6449\n\nhttp://www.broomfieldacademy.com
X-ALT-DESC;FMTTYPE=text/html:Broomfield Academy will be holding a special open house on November 16 for families interested in learning more about middle school\, grades 5-8.<br />\n<br />\nThe open house will include an overview of the middle school program\, a tour of the campus and middle school\, a chance to meet with the principal and middle school staff and an opportunity to learn more about individualized educational programs that help children to become exceptional\, accelerated\, and creative students. The middle school program focuses on assuring strong preparation for high school and college and it includes a wide range of core and elective curriculum components\, a community mentorship program\, an independent student learning plan for each student and significant use of technology in the classroom.<br />\n<br />\nNationally accredited Broomfield Academy provides a unique educational environment and delivers high-quality educational programs for children in preschool through eighth grade. Ages 2 1/2&ndash\;14. There is also an optional extended-day option for working parents.<br />\n<br />\nWe invite you to tour the campus\, meet the teachers and staff\, and become acquainted with the curriculum and philosophy. We knows you&#39\;ll agree there&#39\;s something special happening at Broomfield Academy!<br />\n<br />\nPlease e-mail amcfarlane@broomfieldacademy.com or call (303) 469-6449 to RSVP for the open house or to schedule an independent tour. Your children are welcome to attend.<br />\n<br />\n9 AM and again at 5 PM<br />\n7203 West 120th Avenue\, Broomfield\, CO 80020<br />\n(303) 469-6449<br />\nhttp://www.broomfieldacademy.com<br />\n
LOCATION:Broomfield Academy
UID:e.641.3104
SEQUENCE:3
DTSTAMP:20260419T235422Z
URL:http://business.broomfieldchamber.com/events/details/middle-school-open-house-broomfield-academy-november-16-9-am-5-pm-11-16-2011-3104
END:VEVENT

END:VCALENDAR
