BEGIN:VCALENDAR
VERSION:2.0
PRODID:-//ChamberMaster//Event Calendar 2.0//EN
METHOD:PUBLISH
X-PUBLISHED-TTL:P3D
REFRESH-INTERVAL:P3D
CALSCALE:GREGORIAN
BEGIN:VEVENT
DTSTART:20110711T180000Z
DTEND:20110711T190000Z
X-MICROSOFT-CDO-ALLDAYEVENT:FALSE
SUMMARY:Monday Means Business Leads Group
DESCRIPTION:Chamber Leads Groups generate business opportunities by providing a structured environment where members may pass qualified sales leads in a non-competitive and mutually supportive manner.\n\n	Belonging to a Chamber Leads Group may significantly increase your sales efforts\, since group members have the incentive to become salespersons for each other's products and services. Members within the group become a marketing force for each other. This mutually supportive environment is what makes a Chamber Leads Group so powerful.\n\n	There's a Leads Group that meets each weekday\, at convenient times and locations around the Broomfield Area. Generally only one business category is allowed to participate in each group\, giving you exclusive access to a whole network of business associates in a friendly setting.\n\n	\n\n	Make sure to contact this group's moderator before attending: Don Opeka
X-ALT-DESC;FMTTYPE=text/html:<p>\n	<span style="font-size: 14px"><strong>Chamber Leads Groups</strong> generate business opportunities by providing a structured environment where members may pass qualified sales leads in a non-competitive and mutually supportive manner.</span></p>\n<p>\n	<span style="font-size: 14px"><strong>Belonging to a Chamber Leads Group</strong> may significantly increase your sales efforts\, since group members have the incentive to become salespersons for each other&#39\;s products and services. Members within the group become a marketing force for each other. This mutually supportive environment is what makes a Chamber Leads Group so powerful.</span></p>\n<p>\n	<span style="font-size: 14px"><strong>There&#39\;s a Leads Group that meets each weekday\,</strong> at convenient times and locations around the Broomfield Area. Generally only one business category is allowed to participate in each group\, giving you exclusive access to a whole network of business associates in a friendly setting.<br />\n	<br />\n	Make sure to contact this group&#39\;s moderator before attending: Don Opeka</span></p>\n
LOCATION:CB & Potts\, Flatirons 555 Zang Street Broomfield\, CO 80020
UID:e.641.1719
SEQUENCE:3
DTSTAMP:20260420T050735Z
URL:http://business.broomfieldchamber.com/events/details/monday-means-business-leads-group-07-11-2011-1719
END:VEVENT

END:VCALENDAR
