BEGIN:VCALENDAR
VERSION:2.0
PRODID:-//ChamberMaster//Event Calendar 2.0//EN
METHOD:PUBLISH
X-PUBLISHED-TTL:P3D
REFRESH-INTERVAL:P3D
CALSCALE:GREGORIAN
BEGIN:VEVENT
DTSTART:20110508T150000Z
DTEND:20110508T190000Z
X-MICROSOFT-CDO-ALLDAYEVENT:FALSE
SUMMARY:Mother's Day at Evergreen Memorial Park
DESCRIPTION:Mother's Day at Evergreen Memorial Park\n\n\n\nAll families visiting on Mother's Day May 8\, 2011\n\nwill receive a free carnation in honor of Mom.
X-ALT-DESC;FMTTYPE=text/html:Mother's Day at Evergreen Memorial Park\n<br>\n<br>All families visiting on Mother's Day May 8\, 2011\n<br>will receive a free carnation in honor of Mom.
LOCATION:200 East 168th Avenue
UID:e.641.1447
SEQUENCE:3
DTSTAMP:20260420T080533Z
URL:http://business.broomfieldchamber.com/events/details/mother-s-day-at-evergreen-memorial-park-05-08-2011-1447
END:VEVENT

END:VCALENDAR
