BEGIN:VCALENDAR
VERSION:2.0
PRODID:-//ChamberMaster//Event Calendar 2.0//EN
METHOD:PUBLISH
X-PUBLISHED-TTL:P3D
REFRESH-INTERVAL:P3D
CALSCALE:GREGORIAN
BEGIN:VEVENT
DTSTART:20110721T220000Z
DTEND:20110722T020000Z
X-MICROSOFT-CDO-ALLDAYEVENT:FALSE
SUMMARY:Mountainside Fitness Small Business Summer Spectacular
DESCRIPTION:Join Open House with Style and Mountainside Fitness Center in Westminster at Country Club Village for the networking event of the year!\n\n80 small business owners from the local area will be promoting their products and services.\n\n\n\nEnjoy free hors d'oeuvres and drinks from local Restaurants and Caterers.\n\n\n\nWe will be having a silent auction with the Legacy Foundation and proceeds will go to the Armed Forces Garden in Westminster.
X-ALT-DESC;FMTTYPE=text/html:<span style="font-size: 16px">Join Open House with Style and Mountainside Fitness Center in Westminster at Country Club Village for the networking event of the year!<br />\n80 small business owners from the local area will be promoting their products and services.<br />\n<br />\nEnjoy free hors d&#39\;oeuvres and drinks from local Restaurants and Caterers.<br />\n<br />\nWe will be having a silent auction with the Legacy Foundation and proceeds will go to the Armed Forces Garden in Westminster.</span><br />\n<br />\n
LOCATION:Mountainside Fitness Westminster 120th and Federal
UID:e.641.2867
SEQUENCE:3
DTSTAMP:20260420T051209Z
URL:http://business.broomfieldchamber.com/events/details/mountainside-fitness-small-business-summer-spectacular-07-21-2011-2867
END:VEVENT

END:VCALENDAR
