BEGIN:VCALENDAR
VERSION:2.0
PRODID:-//ChamberMaster//Event Calendar 2.0//EN
METHOD:PUBLISH
X-PUBLISHED-TTL:P3D
REFRESH-INTERVAL:P3D
CALSCALE:GREGORIAN
BEGIN:VEVENT
DTSTART:20100730T010000Z
DTEND:20100730T030000Z
X-MICROSOFT-CDO-ALLDAYEVENT:FALSE
SUMMARY:Moving Together- A Cause For Dance
DESCRIPTION:Moving Together\n\nA Cause for Dance\n\nA benefit performance supporting Ballet Nouveau Colorado\n\nThursday\, July 29 at 7:00 p.m.\n\n\n\nNEW $20 TICKETS FOR STUDENTS\, ARTISTS AND NON PROFIT EMPLOYEES
X-ALT-DESC;FMTTYPE=text/html:Moving Together\n<br>A Cause for Dance\n<br>A benefit performance supporting Ballet Nouveau Colorado\n<br>Thursday\, July 29 at 7:00 p.m.\n<br>\n<br>NEW $20 TICKETS FOR STUDENTS\, ARTISTS AND NON PROFIT EMPLOYEES\n<br>
LOCATION:Performing Arts Complex at PCS 1001 W. 84th Ave.\, Denver CO 80260 10 minutes north of Downtown at 84th Ave and Huron.
UID:e.641.1138
SEQUENCE:3
DTSTAMP:20260421T010249Z
URL:http://business.broomfieldchamber.com/events/details/moving-together-a-cause-for-dance-07-29-2010-1138
END:VEVENT

END:VCALENDAR
