BEGIN:VCALENDAR
VERSION:2.0
PRODID:-//ChamberMaster//Event Calendar 2.0//EN
METHOD:PUBLISH
X-PUBLISHED-TTL:P3D
REFRESH-INTERVAL:P3D
CALSCALE:GREGORIAN
BEGIN:VEVENT
DTSTART:20100730T034500Z
DTEND:20100730T050000Z
X-MICROSOFT-CDO-ALLDAYEVENT:FALSE
SUMMARY:Moving Together- A Cause For Dance VIP Reception
DESCRIPTION:Meet the artist after the show.
X-ALT-DESC;FMTTYPE=text/html:Meet the artist after the show.
LOCATION:HBurgerCo
UID:e.641.1139
SEQUENCE:3
DTSTAMP:20260420T233038Z
URL:http://business.broomfieldchamber.com/events/details/moving-together-a-cause-for-dance-vip-reception-07-29-2010-1139
END:VEVENT

END:VCALENDAR
