BEGIN:VCALENDAR
VERSION:2.0
PRODID:-//ChamberMaster//Event Calendar 2.0//EN
METHOD:PUBLISH
X-PUBLISHED-TTL:P3D
REFRESH-INTERVAL:P3D
CALSCALE:GREGORIAN
BEGIN:VEVENT
DTSTART:20101120T170000Z
DTEND:20101120T180000Z
X-MICROSOFT-CDO-ALLDAYEVENT:FALSE
SUMMARY:Music Meditation in the Broomfield Auditorium
DESCRIPTION:Music Meditation will take place in the Broomfield Auditorium on Saturday\, November 20 at 10AM in the Broomfield Auditorium.  Violinist and winner of the Daniel Pearl Award\, Kailin Yong and several other musicians will present a free form program perfect for meditation and relaxation.  Plan to dress comfortably.
X-ALT-DESC;FMTTYPE=text/html:Music Meditation will take place in the Broomfield Auditorium on Saturday\, November 20 at 10AM in the Broomfield Auditorium.  Violinist and winner of the Daniel Pearl Award\, Kailin Yong and several other musicians will present a free form program perfect for meditation and relaxation.  Plan to dress comfortably. 
LOCATION:Broomfield Auditorium 3 Community Park Road
UID:e.641.1198
SEQUENCE:3
DTSTAMP:20260420T190903Z
URL:http://business.broomfieldchamber.com/events/details/music-meditation-in-the-broomfield-auditorium-11-20-2010-1198
END:VEVENT

END:VCALENDAR
