BEGIN:VCALENDAR
VERSION:2.0
PRODID:-//ChamberMaster//Event Calendar 2.0//EN
METHOD:PUBLISH
X-PUBLISHED-TTL:P3D
REFRESH-INTERVAL:P3D
CALSCALE:GREGORIAN
BEGIN:VEVENT
DTSTART:20100828T150000Z
DTEND:20100828T230000Z
X-MICROSOFT-CDO-ALLDAYEVENT:FALSE
SUMMARY:Mustang Car Show
DESCRIPTION:First Annual Mustang Car Show at FatCats Fun Center. We will have food\, venders and FUN!
X-ALT-DESC;FMTTYPE=text/html:<div>First Annual Mustang Car Show at FatCats Fun Center.</div><div>&nbsp\;</div><div>We will have food\, venders and FUN!</div>
LOCATION:10685 Westminster Blvd Westminster CO 80020
UID:e.641.1170
SEQUENCE:3
DTSTAMP:20260420T215531Z
URL:http://business.broomfieldchamber.com/events/details/mustang-car-show-08-28-2010-1170
END:VEVENT

END:VCALENDAR
