BEGIN:VCALENDAR
VERSION:2.0
PRODID:-//ChamberMaster//Event Calendar 2.0//EN
METHOD:PUBLISH
X-PUBLISHED-TTL:P3D
REFRESH-INTERVAL:P3D
CALSCALE:GREGORIAN
BEGIN:VEVENT
DTSTART:20100318T173000Z
DTEND:20100318T190000Z
X-MICROSOFT-CDO-ALLDAYEVENT:FALSE
SUMMARY:Networking Event @ Corporate Office Centers
DESCRIPTION:Corporate Office Centers' monthly Lunch & Learn series continues with an exciting presentation by Cruise & Tour Escapes.  Learn how to plan for your dream vacation!  Every event is open to business owners & entrepreneurs who are interested in the opportunity to network with one another.  Lunch is provided.  Come early and bring plenty of business cards!
X-ALT-DESC;FMTTYPE=text/html:Corporate Office Centers' monthly Lunch &amp\; Learn series continues with an exciting presentation by Cruise &amp\; Tour Escapes.  Learn how to plan for your dream vacation!  Every event is open to business owners &amp\; entrepreneurs who are interested in the opportunity to network with one another.  Lunch is provided.  Come early and bring plenty of business cards!   
LOCATION:Corporate Office Centers 12303 Airport Way\, Suite 200 Broomfield\, CO 80021
UID:e.641.580
SEQUENCE:3
DTSTAMP:20260421T055459Z
URL:http://business.broomfieldchamber.com/events/details/networking-event-corporate-office-centers-03-18-2010-580
END:VEVENT

END:VCALENDAR
