BEGIN:VCALENDAR
VERSION:2.0
PRODID:-//ChamberMaster//Event Calendar 2.0//EN
METHOD:PUBLISH
X-PUBLISHED-TTL:P3D
REFRESH-INTERVAL:P3D
CALSCALE:GREGORIAN
BEGIN:VEVENT
DTSTART:20111110T000000Z
DTEND:20111110T020000Z
X-MICROSOFT-CDO-ALLDAYEVENT:FALSE
SUMMARY:Networking Event @ Key Bank
DESCRIPTION:You're invited to an Oktoberfest Business After Hours Networking Event.\n\n\n\nOur bankers will be on hand to showcase solutions that can be customized to your business and personal needs. Enjoy this exclusive networking and learning opportunity.\n\n\n\nWednesday\, November 9\, 2011\n\n5:00 p.m. - 7:00 p.m.\n\n\n\nKey Bank\n\n2776 North Speer Boulevard\n\nDenver\, CO 80211\n\n\n\n  Food and beverages\n\n  First 10 people at the door will get\n\na sample goody bag from Bashful LLC\n\n\n\n\n\nRSVP by November 2\, 2011 Oksana Shabinevich at 720-855-2906\n\nor oksana_shabinevich@keybank.com.\n\n\n\nPlease join us!\n\n\n\nSpeakers will discuss:\n\n  Business Banking services\n\n  Key4Women \n\n  Retirement planning\n\n  Key Merchant Services\n\n  KeyBank Mortgage  solutions\n\n\n\n\n\n 2011 KeyCorp. KeyBank is Member FDIC. ADL4015
X-ALT-DESC;FMTTYPE=text/html:<span style="font-size: 26px"><strong><span style="color: #ff0000">You&rsquo\;re invited to an Oktoberfest Business After Hours Networking Event.</span></strong></span><br />\n<br />\n<span style="font-size: 14px">Our bankers will be on hand to showcase solutions that can be customized to your business and personal needs. Enjoy this exclusive networking and learning opportunity.</span><br />\n<br />\n<span style="font-size: 22px">Wednesday\, November 9\, 2011<br />\n5:00 p.m. - 7:00 p.m.</span><br />\n<br />\n<strong>Key Bank<br />\n2776 North Speer Boulevard<br />\nDenver\, CO 80211</strong><br />\n<br />\n&bull\; Food and beverages<br />\n&bull\; First 10 people at the door will get<br />\na sample goody bag from <span style="color: #800080"><strong>Bashful LLC</strong></span><br />\n<br />\n<br />\n<span style="font-size: 18px"><strong>RSVP </strong></span>by November 2\, 2011 Oksana Shabinevich at 720-855-2906<br />\nor oksana_shabinevich@keybank.com.<br />\n<br />\n<strong>Please join us!<br />\n<br />\n<em>Speakers will discuss:</em></strong><br />\n&bull\; Business Banking services<br />\n&bull\; Key4Women&reg\;<br />\n&bull\; Retirement planning<br />\n&bull\; Key Merchant Services<br />\n&bull\; KeyBank Mortgage&reg\; solutions<br />\n<br />\n<br />\n&copy\;2011 KeyCorp. KeyBank is Member FDIC. ADL4015<br />\n
LOCATION:2776 N. Speer Blvd Denver\, CO 80211
UID:e.641.3083
SEQUENCE:3
DTSTAMP:20260419T235008Z
URL:http://business.broomfieldchamber.com/events/details/networking-event-key-bank-11-09-2011-3083
END:VEVENT

END:VCALENDAR
