BEGIN:VCALENDAR
VERSION:2.0
PRODID:-//ChamberMaster//Event Calendar 2.0//EN
METHOD:PUBLISH
X-PUBLISHED-TTL:P3D
REFRESH-INTERVAL:P3D
CALSCALE:GREGORIAN
BEGIN:VEVENT
DTSTART:20120125T190000Z
DTEND:20120125T200000Z
X-MICROSOFT-CDO-ALLDAYEVENT:FALSE
SUMMARY:New Year\, New You! at Living Well Nutrition
DESCRIPTION:A New Year\, A New You!\n\n\n\nInsanity is doing the same thing over and over\, and expecting different results. What are you going to do different this year? What are your health goals and how are you going to reach them once and for all?\n\n\n\nJoin us for a COMPLIMENTARY SEMINAR to learn how to:\n\no Lose weight and maintain it\n\no Get restful sleep every night\n\no Have sustained energy all day\, without the use of caffeine\n\no Engage your fat burning hormones\n\no Get out of pain\n\no Manage moods\n\no  And just feel better!\n\n\n\nThere is a reason we are in an obesity and diabetes epidemic. Learn the latest research and information that's keeping us in a sick world and preventing so many of us from achieving optimal health!\n\n\n\nThis one-hour seminar will change your life\, how you view your health and weight-loss goals\, and give you tools to take the first steps in reaching your health and weight-loss goals.
X-ALT-DESC;FMTTYPE=text/html:<strong>A New Year\, A New You!<br />\n<br />\nInsanity is doing the same thing over and over\, and expecting different results. What are you going to do different this year? What are your health goals and how are you going to reach them once and for all?</strong><br />\n<br />\nJoin us for a COMPLIMENTARY SEMINAR to learn how to:<br />\no Lose weight and maintain it<br />\no Get restful sleep every night<br />\no Have sustained energy all day\, without the use of caffeine<br />\no Engage your fat burning hormones<br />\no Get out of pain<br />\no Manage moods<br />\no &hellip\;And just feel better!<br />\n<br />\nThere is a reason we are in an obesity and diabetes epidemic. Learn the latest research and information that&rsquo\;s keeping us in a sick world and preventing so many of us from achieving optimal health!<br />\n<br />\nThis one-hour seminar will change your life\, how you view your health and weight-loss goals\, and give you tools to take the first steps in reaching your health and weight-loss goals.<br />\n
LOCATION:54 Garden Center Broomfield\, CO 80020 (Major cross streets are Hwy 287 & Midway)
UID:e.641.3146
SEQUENCE:3
DTSTAMP:20260419T210152Z
URL:http://business.broomfieldchamber.com/events/details/new-year-new-you-at-living-well-nutrition-01-25-2012-3146
END:VEVENT

END:VCALENDAR
