BEGIN:VCALENDAR
VERSION:2.0
PRODID:-//ChamberMaster//Event Calendar 2.0//EN
METHOD:PUBLISH
X-PUBLISHED-TTL:P3D
REFRESH-INTERVAL:P3D
CALSCALE:GREGORIAN
BEGIN:VEVENT
DTSTART:20110102T180000Z
DTEND:20110102T200000Z
X-MICROSOFT-CDO-ALLDAYEVENT:FALSE
SUMMARY:New Year\, New You Event at Living Well\, LLC
DESCRIPTION:It's a NEW YEAR\, and time to kick off with a NEW AND HEALTHIER YOU!  Join us for a healthy brunch\, brief weight loss and health seminar\, and learn about customized nutrition plans to help you reach your health goals.  \n\nSay "no" to fad diets--learn how you can revitalize your own metabolism.  Want more energy\, better brain power\, and to regain your vitality?  You won?t want to miss this seminar. \n\nSeating is limited\, so you must register by calling (303) 466-3232 or www.fatlossdenver.com.
X-ALT-DESC;FMTTYPE=text/html:It's a NEW YEAR\, and time to kick off with a NEW AND HEALTHIER YOU!  Join us for a healthy brunch\, brief weight loss and health seminar\, and learn about customized nutrition plans to help you reach your health goals.  \n<br>Say "no" to fad diets--learn how you can revitalize your own metabolism.  Want more energy\, better brain power\, and to regain your vitality?  You won?t want to miss this seminar. \n<br>Seating is limited\, so you must register by calling (303) 466-3232 or www.fatlossdenver.com.
LOCATION:54 Garden Center Broomfield\, CO 80020 (In Summit Chiropractic)
UID:e.641.1261
SEQUENCE:3
DTSTAMP:20260420T144217Z
URL:http://business.broomfieldchamber.com/events/details/new-year-new-you-event-at-living-well-llc-01-02-2011-1261
END:VEVENT

END:VCALENDAR
