BEGIN:VCALENDAR
VERSION:2.0
PRODID:-//ChamberMaster//Event Calendar 2.0//EN
METHOD:PUBLISH
X-PUBLISHED-TTL:P3D
REFRESH-INTERVAL:P3D
CALSCALE:GREGORIAN
BEGIN:VEVENT
DTSTART:20120107T170000Z
DTEND:20120107T230000Z
X-MICROSOFT-CDO-ALLDAYEVENT:FALSE
SUMMARY:New Year's Kick Off with Rooter Scooty\, Inc.
DESCRIPTION:Join Us for this Huge New Year's Kick Off Event! We expect 500+ people in attendance for the chance to create wealth and abundance in 2012! You will learn how to increase your revenue & decrease your overhead\, bring new business into your business\, and create a passive income stream that is 2nd to none! There will be plenty of networking to a B-B as well as B-C customer base! Please RSVP to Jim or Stacey to attend this event.
X-ALT-DESC;FMTTYPE=text/html:Join Us for this <strong>Huge New Year&#39\;s Kick Off Event</strong>! We expect <strong>500+ people </strong>in attendance for the chance to create wealth and abundance in 2012! You will learn how to increase your revenue &amp\; decrease your overhead\, bring new business into your business\, and create a passive income stream that is 2nd to none! There will be plenty of networking to a B-B as well as B-C customer base! Please RSVP to Jim or Stacey to attend this event.
LOCATION:El Jebel Event Center 4625 W. 50th Avenue Denver\, 80212.
UID:e.641.3162
SEQUENCE:3
DTSTAMP:20260419T205841Z
URL:http://business.broomfieldchamber.com/events/details/new-year-s-kick-off-with-rooter-scooty-inc-01-07-2012-3162
END:VEVENT

END:VCALENDAR
