BEGIN:VCALENDAR
VERSION:2.0
PRODID:-//ChamberMaster//Event Calendar 2.0//EN
METHOD:PUBLISH
X-PUBLISHED-TTL:P3D
REFRESH-INTERVAL:P3D
CALSCALE:GREGORIAN
BEGIN:VEVENT
DTSTART:20120605T003000Z
DTEND:20120605T023000Z
X-MICROSOFT-CDO-ALLDAYEVENT:FALSE
SUMMARY:Night with a Futurist - The Coming Talent Wars :: Winning the Hearts and Minds of Great
DESCRIPTION:The difference between an average employee and an exceptional employee is nothing short of the difference between success and failure.\n\n\n\nFor this reason companies are working overtime to hire the best and the brightest. But contrary to popular belief\, the best and the brightest:\n\n\n	\n		Are not always the best educated\n	\n		Are not always the highest paid\n	\n		Bring more than resume skills to the table\n	\n		Look at far more than salary and compensation packages\n\n\n\nBut exceptional people don't want to work for average or below average companies. So what exactly constitutes a "good company" in the mind of a prospective employee?\n\n\n\nJoin us on June 4th as we will be taking an in-depth look at this question\, and discuss how the standard for "good companies" is about to change in the future.
X-ALT-DESC;FMTTYPE=text/html:The difference between an average employee and an exceptional employee is nothing short of the difference between success and failure.<br />\n<br />\nFor this reason companies are working overtime to hire the best and the brightest. But contrary to popular belief\, the best and the brightest:<br />\n<ul>\n	<li>\n		Are not always the best educated</li>\n	<li>\n		Are not always the highest paid</li>\n	<li>\n		Bring more than resume skills to the table</li>\n	<li>\n		Look at far more than salary and compensation packages</li>\n</ul>\n<br />\nBut exceptional people don&rsquo\;t want to work for average or below average companies. So what exactly constitutes a &ldquo\;good company&rdquo\; in the mind of a prospective employee?<br />\n<br />\nJoin us on June 4th as we will be taking an in-depth look at this question\, and discuss how the standard for &ldquo\;good companies&rdquo\; is about to change in the future.
LOCATION:DaVinci Institute\, 511 E. South Boulder Road\, Louisville\, CO 80027
UID:e.641.4200
SEQUENCE:3
DTSTAMP:20260419T133503Z
URL:http://business.broomfieldchamber.com/events/details/night-with-a-futurist-the-coming-talent-wars-winning-the-hearts-and-minds-of-great-06-04-2012-4200
END:VEVENT

END:VCALENDAR
