BEGIN:VCALENDAR
VERSION:2.0
PRODID:-//ChamberMaster//Event Calendar 2.0//EN
METHOD:PUBLISH
X-PUBLISHED-TTL:P3D
REFRESH-INTERVAL:P3D
CALSCALE:GREGORIAN
BEGIN:VEVENT
DTSTART:20111206T220000Z
DTEND:20111207T000000Z
X-MICROSOFT-CDO-ALLDAYEVENT:FALSE
SUMMARY:North Metro Fire hosts "A Precious Tree" Clothing Drive
DESCRIPTION:The "A Precious Tree" clothing drive event will provide community members a place to bring their families to support this important cause with giving children the clothing needed to survive this winter's weather.\n\n	NMFRD is also excited to announce that the Rotary Club of Broomfield Crossing will be inviting Santa Claus so that he can thank all of the families that bring donations and support A Precious Child.
X-ALT-DESC;FMTTYPE=text/html:<p class="MsoNormal" style="line-height: 150%\; text-indent: 0.5in\; margin: 0in 0in 0pt">\n	<br />\n	<span style="font-size: 14px"><span style="font-family: verdana"><span style="color: black">The <strong>&ldquo\;A Precious Tree&rdquo\;</strong> clothing drive event will provide community members a place to bring their families to support this important cause with giving children the clothing needed to survive this winter&rsquo\;s weather.<br />\n	NMFRD is also excited to announce that the <em>Rotary Club of Broomfield Crossing </em>will be inviting </span><span style="color: #ff0000"><strong>Santa Claus </strong></span><span style="color: black">so that he can thank all of the families that bring donations and support A Precious Child. </span></span></span></p>\n
LOCATION:North Metro Fire Rescue Headquarters\, 101 Lamar St\, Broomfield
UID:e.641.3121
SEQUENCE:3
DTSTAMP:20260419T233136Z
URL:http://business.broomfieldchamber.com/events/details/north-metro-fire-hosts-a-precious-tree-clothing-drive-12-06-2011-3121
END:VEVENT

END:VCALENDAR
