BEGIN:VCALENDAR
VERSION:2.0
PRODID:-//ChamberMaster//Event Calendar 2.0//EN
METHOD:PUBLISH
X-PUBLISHED-TTL:P3D
REFRESH-INTERVAL:P3D
CALSCALE:GREGORIAN
BEGIN:VEVENT
DTSTART:20111203T170000Z
DTEND:20111203T200000Z
X-MICROSOFT-CDO-ALLDAYEVENT:FALSE
SUMMARY:North Metro Fire Rescue Teddy Bear Clinic
DESCRIPTION:Bring your family and kids to North Metro Fire Rescue District's Teddy Bear Clinic where kids can bring their favorite teddy bears and learn about emergency medical services as they badge up their bears!
X-ALT-DESC;FMTTYPE=text/html:<em><strong><span style="font-size: 16px"><span style="font-family: verdana">Bring your family and kids to North Metro Fire Rescue District&#39\;s <span style="color: #ff0000">Teddy Bear Clinic</span> where kids can bring their favorite teddy bears and learn about emergency medical services as they badge up their bears!</span></span></strong></em> 
LOCATION:North Metro Fire Station #62\, 10550 Huron St\, Northglenn
UID:e.641.3120
SEQUENCE:3
DTSTAMP:20260419T235309Z
URL:http://business.broomfieldchamber.com/events/details/north-metro-fire-rescue-teddy-bear-clinic-12-03-2011-3120
END:VEVENT

END:VCALENDAR
