BEGIN:VCALENDAR
VERSION:2.0
PRODID:-//ChamberMaster//Event Calendar 2.0//EN
METHOD:PUBLISH
X-PUBLISHED-TTL:P3D
REFRESH-INTERVAL:P3D
CALSCALE:GREGORIAN
BEGIN:VEVENT
DTSTART:20111231T010000Z
DTEND:20111231T070000Z
X-MICROSOFT-CDO-ALLDAYEVENT:FALSE
SUMMARY:OK Friday NIght = Play if Forward
DESCRIPTION:OK Friday Night December 30th\n\n	\n\n	Great night for a party? We think so!!\n\n	COMING TO THE EVENT CENTER AT CHURCH RANCH\n\n	\n\n	FUN CLASSIC ROCK\n\n	\n\n	by\n\n	\n\n	PLAY IF FORWARD\n\n	\n\n	Free munchies and great drink specials\n\n	Happy Hour at 6:00 p. m. band starts at 7:00\n\n	\n\n	\n\n	10200 Wadsworth Blvd. Westminster\n\n	303-404-3777\n\n	\n\n	$5 cover\, but bring this add in and redeem it for a well drink\, beer or wine!\n\n	One per person
X-ALT-DESC;FMTTYPE=text/html:<p style="text-align: center">\n	<strong><span style="font-size: 22px">OK Friday Night December 30th</span><br />\n	<br />\n	<span style="font-size: 14px"><span style="color: #a52a2a">Great night for a party? We think so!!</span></span></strong></p>\n<p style="text-align: center">\n	<span style="font-size: 18px">COMING TO THE EVENT CENTER AT CHURCH RANCH</span><br />\n	<br />\n	<span style="font-size: 20px"><span style="color: #ffff00"><span style="background-color: #ff0000">FUN CLASSIC ROCK</span></span></span><br />\n	<br />\n	by<br />\n	<br />\n	<strong><u><span style="font-size: 24px"><span style="color: #0000cd">PLAY IF FORWARD</span></span></u></strong><br />\n	<br />\n	<span style="font-size: 14px">Free munchies and great drink specials<br />\n	Happy Hour at 6:00 p. m. band starts at 7:00<br />\n	<br />\n	<br />\n	10200 Wadsworth Blvd. Westminster<br />\n	303-404-3777<br />\n	<br />\n	$5 cover\, but bring this add in and redeem it for a well drink\, beer or wine!<br />\n	One per person</span></p>\n
LOCATION:10200 Wadsworth Blvd 80021
UID:e.641.3148
SEQUENCE:3
DTSTAMP:20260419T233027Z
URL:http://business.broomfieldchamber.com/events/details/ok-friday-night-play-if-forward-12-30-2011-3148
END:VEVENT

END:VCALENDAR
