BEGIN:VCALENDAR
VERSION:2.0
PRODID:-//ChamberMaster//Event Calendar 2.0//EN
METHOD:PUBLISH
X-PUBLISHED-TTL:P3D
REFRESH-INTERVAL:P3D
CALSCALE:GREGORIAN
BEGIN:VEVENT
DTSTART:20110331T150000Z
DTEND:20110331T173000Z
X-MICROSOFT-CDO-ALLDAYEVENT:FALSE
SUMMARY:"On the Threshold of Prosperity"
DESCRIPTION:Presenter:\n\nJames Fischer\, Founder of Growth Curve Institute and author of the widely acclaimed book\, Navigating the Growth Curve\, will introduce the 12 critical requirements of Principled Prosperity through sustainable business growth.
X-ALT-DESC;FMTTYPE=text/html:Presenter:\n<br>James Fischer\, Founder of Growth Curve Institute and author of the widely acclaimed book\, Navigating the Growth Curve\, will introduce the 12 critical requirements of Principled Prosperity through sustainable business growth.\n<br> 
LOCATION:A Spice of Life Event Center Address: 5706 Arapahoe Ave. Boulder\, CO 80303 (303-444-3452) Google Map
UID:e.641.1389
SEQUENCE:3
DTSTAMP:20260420T110555Z
URL:http://business.broomfieldchamber.com/events/details/on-the-threshold-of-prosperity-03-31-2011-1389
END:VEVENT

END:VCALENDAR
