BEGIN:VCALENDAR
VERSION:2.0
PRODID:-//ChamberMaster//Event Calendar 2.0//EN
METHOD:PUBLISH
X-PUBLISHED-TTL:P3D
REFRESH-INTERVAL:P3D
CALSCALE:GREGORIAN
BEGIN:VEVENT
DTSTART:20110414T150000Z
DTEND:20110414T173000Z
X-MICROSOFT-CDO-ALLDAYEVENT:FALSE
SUMMARY:"On the Threshold of Prosperity"
DESCRIPTION:Presenter:\n\nJames Fischer\, Founder of Growth Curve Institute and author of the widely acclaimed book\, Navigating the Growth Curve\, will introduce the 12 critical requirements of Principled Prosperity through sustainable business growth.
X-ALT-DESC;FMTTYPE=text/html:Presenter:\n<br>James Fischer\, Founder of Growth Curve Institute and author of the widely acclaimed book\, Navigating the Growth Curve\, will introduce the 12 critical requirements of Principled Prosperity through sustainable business growth.
LOCATION:Westin Hotel & Conference Center 10600 Westminster Blvd.\, Westminster\, CO 80020 (303-410-5000) Google Map
UID:e.641.1391
SEQUENCE:3
DTSTAMP:20260420T093238Z
URL:http://business.broomfieldchamber.com/events/details/on-the-threshold-of-prosperity-04-14-2011-1391
END:VEVENT

END:VCALENDAR
